{"text_format":"1","workbook":"xlsx","n_sheets":3,"sheets":["INPUT HOURS & CALC FRINGES","TRADES_RATES","TOTALS and CERTIFY"],"not_rendered":{"charts":0,"images":0,"macros":1,"external_links":0,"defined_names":5,"comments":3,"pivot_tables":0},"unopened":[],"bounds":{"document_bytes":16777216,"sheet_cells":100000,"rows_first":2000,"rows_last":500,"rows_between":2000,"halvings":0,"cell_chars":16384,"cell_head_chars":4096},"cells_cut":0,"cells_raw":0,"read":"whole","date_system":"1900"}

{"sheet":"INPUT HOURS & CALC FRINGES","index":0,"n_rows":107,"n_cols":31,"rows_kept":107,"cut":false,"hidden":false,"merged":[[0,0,0,11],[103,12,104,12],[104,6,104,10],[105,6,105,10],[1,0,1,4],[3,1,3,3],[4,1,4,3],[103,0,103,4],[9,8,9,11],[106,6,106,10],[103,6,103,10],[2,7,2,11],[3,7,3,11],[4,7,4,11],[2,5,2,6],[3,5,3,6],[4,5,4,6],[103,20,103,29],[5,1,5,3],[9,0,9,5],[9,6,9,7],[5,5,5,6],[6,5,6,6],[7,5,7,6],[5,7,5,11],[6,7,6,11],[7,7,7,11],[9,15,9,29],[103,14,104,14]]}
["Fringe Benefit Remittance Form to PIPE TRADES SERVICES MN"]
["On Behalf of EMPLOYEES WORKING UNDER JURISDICTION OF Sprinklersfitters Local 417"]
["For Payroll Periods: July 1, 2019 - May 31, 2020",null,null,null,null,"Employer Tax ID:"]
["Last Payroll Date Paid:",null,null,null,null,"Employer Name:"]
["Report for the Month of:",null,null,null,null,"Office Address:"]
[null,null,null,null,null,"City, State  Zip: "]
["Check here if there will be no hours to report next month",null,null,null,null,"Phone #"]
[null,null,null,null,null,"Fax #"]
[]
["Enter Monthly Reporting",null,null,null,null,null,"Total Hours",null,"PYRAMID FRINGES",null,null,null,null,null,null,"NON PYRAMID FRINGES"]
["NAME OF EMPLOYEE                 (in alphabetical order by lastname, firstname)","SOC. SEC. #    (123-45-6789)","TRADE CODE","REGULAR     TIME","TIME            & 1/2","DOUBLE     TIME","TOTAL HOURS WORKED","TOTAL HOURS that PYRAMID","Dues Rate","Total Dues","H&W Rate","Total H&W","Total Pyramid Fringes","Total Non Pyramid Fringes","Total Fringe to PTSMN","Supplement Pension Rate","Total Supplement Pension","Apprenticeship Rate","Total Apprenticeship","Industry Promotion Rate","Total Industry Promotion","Building Fund Rate","Total Building Fund","UA Training Rate","Total UA Training","UA Organizing Rate","Total UA Organizing","Vacation Rate","Total for Vacation","Total Non Pyramid Fringes","Total Fringe to PTSMN"]
[null,null,null,null,null,null,{"$f":"SUM(D12:F12)","v":0},{"$f":"D12+(E12*1.5)+(F12*2)","v":0},{"$f":"IF($H12 <> 0, (VLOOKUP($C12,TRADE_RATES,12,FALSE)),0)","v":0},{"$f":"ROUND($H12*$I12,2)","v":0},{"$f":"IF($H12 <> 0, (VLOOKUP($C12,TRADE_RATES,3,FALSE)),0)","v":0},{"$f":"ROUND($H12*$K12,2)","v":0},{"$f":"SUM(J12,L12)","v":0},{"$f":"Q12+S12+U12+W12+Y12+AA12+AC12","v":0},{"$f":"SUM(J12,L12,Q12,S12,U12,W12,Y12,AA12,AC12)","v":0},{"$f":"IF($G12 <> 0, (VLOOKUP($C12,TRADE_RATES,5,FALSE)),0)","v":0},{"$f":"ROUND($G12*$P12,2)","v":0},{"$f":"IF($G12 <> 0, (VLOOKUP($C12,TRADE_RATES,6,FALSE)),0)","v":0},{"$f":"ROUND($G12*$R12,2)","v":0},{"$f":"IF($G12 <> 0, (VLOOKUP($C12,TRADE_RATES,7,FALSE)),0)","v":0},{"$f":"ROUND($G12*$T12,2)","v":0},{"$f":"IF($G12 <> 0, (VLOOKUP($C12,TRADE_RATES,8,FALSE)),0)","v":0},{"$f":"ROUND($G12*$V12,2)","v":0},{"$f":"IF($G12 <> 0, (VLOOKUP($C12,TRADE_RATES,9,FALSE)),0)","v":0},{"$f":"ROUND($G12*$X12,2)","v":0},{"$f":"IF($G12 <> 0, (VLOOKUP($C12,TRADE_RATES,10,FALSE)),0)","v":0},{"$f":"ROUND($G12*$Z12,2)","v":0},{"$f":"IF($G12 <> 0, (VLOOKUP($C12,TRADE_RATES,11,FALSE)),0)","v":0},{"$f":"ROUND($G12*$AB12,2)","v":0},{"$f":"Q12+S12+U12+W12+Y12+AA12+AC12","v":0},{"$f":"SUM(J12,L12,Q12,S12,U12,W12,Y12,AA12,AC12)","v":0}]
[null,null,null,null,null,null,0,0,0,{"$f":"ROUND($H13*$I13,2)","v":0},{"$f":"IF($H13 <> 0, (VLOOKUP($C13,TRADE_RATES,3,FALSE)),0)","v":0},{"$f":"ROUND($H13*$K13,2)","v":0},0,0,0,{"$f":"IF($G13 <> 0, (VLOOKUP($C13,TRADE_RATES,5,FALSE)),0)","v":0},{"$f":"ROUND($G13*$P13,2)","v":0},{"$f":"IF($G13 <> 0, (VLOOKUP($C13,TRADE_RATES,6,FALSE)),0)","v":0},{"$f":"ROUND($G13*$R13,2)","v":0},{"$f":"IF($G13 <> 0, (VLOOKUP($C13,TRADE_RATES,7,FALSE)),0)","v":0},{"$f":"ROUND($G13*$T13,2)","v":0},0,0,0,0,0,0,0,0,0,0]
[null,null,null,null,null,null,{"$f":"SUM(D14:F14)","v":0},{"$f":"D14+(E14*1.5)+(F14*2)","v":0},0,{"$f":"ROUND($H14*$I14,2)","v":0},{"$f":"IF($H14 <> 0, (VLOOKUP($C14,TRADE_RATES,3,FALSE)),0)","v":0},{"$f":"ROUND($H14*$K14,2)","v":0},0,0,0,{"$f":"IF($G14 <> 0, (VLOOKUP($C14,TRADE_RATES,5,FALSE)),0)","v":0},{"$f":"ROUND($G14*$P14,2)","v":0},{"$f":"IF($G14 <> 0, (VLOOKUP($C14,TRADE_RATES,6,FALSE)),0)","v":0},{"$f":"ROUND($G14*$R14,2)","v":0},{"$f":"IF($G14 <> 0, (VLOOKUP($C14,TRADE_RATES,7,FALSE)),0)","v":0},{"$f":"ROUND($G14*$T14,2)","v":0},0,0,0,0,0,0,0,0,0,0]
[null,null,null,null,null,null,0,0,0,0,0,0,0,0,0,0,0,0,0,0,0,0,0,0,0,0,0,0,0,0,0]
[null,null,null,null,null,null,0,0,0,0,0,0,0,0,0,0,0,0,0,0,0,0,0,0,0,0,0,0,0,0,0]
[null,null,null,null,null,null,0,0,0,0,0,0,0,0,0,0,0,0,0,0,0,0,0,0,0,0,0,0,0,0,0]
[null,null,null,null,null,null,0,0,0,0,0,0,0,0,0,0,0,0,0,0,0,0,0,0,0,0,0,0,0,0,0]
[null,null,null,null,null,null,0,0,0,0,0,0,0,0,0,0,0,0,0,0,0,0,0,0,0,0,0,0,0,0,0]
[null,null,null,null,null,null,0,0,0,0,0,0,0,0,0,0,0,0,0,0,0,0,0,0,0,0,0,0,0,0,0]
[null,null,null,null,null,null,0,0,0,0,0,0,0,0,0,0,0,0,0,0,0,0,0,0,0,0,0,0,0,0,0]
[null,null,null,null,null,null,0,0,0,0,0,0,0,0,0,0,0,0,0,0,0,0,0,0,0,0,0,0,0,0,0]
[null,null,null,null,null,null,0,0,0,0,0,0,0,0,0,0,0,0,0,0,0,0,0,0,0,0,0,0,0,0,0]
[null,null,null,null,null,null,0,0,0,0,0,0,0,0,0,0,0,0,0,0,0,0,0,0,0,0,0,0,0,0,0]
[null,null,null,null,null,null,0,0,0,0,0,0,0,0,0,0,0,0,0,0,0,0,0,0,0,0,0,0,0,0,0]
[null,null,null,null,null,null,0,0,0,0,0,0,0,0,0,0,0,0,0,0,0,0,0,0,0,0,0,0,0,0,0]
[null,null,null,null,null,null,{"$f":"SUM(D27:F27)","v":0},{"$f":"D27+(E27*1.5)+(F27*2)","v":0},0,0,0,0,0,0,0,0,0,0,0,0,0,0,0,0,0,0,0,0,0,0,0]
[null,null,null,null,null,null,0,0,0,0,0,0,0,0,0,0,0,0,0,0,0,0,0,0,0,0,0,0,0,0,0]
[null,null,null,null,null,null,0,0,0,0,0,0,0,0,0,0,0,0,0,0,0,0,0,0,0,0,0,0,0,0,0]
[null,null,null,null,null,null,0,0,0,0,0,0,0,0,0,0,0,0,0,0,0,0,0,0,0,0,0,0,0,0,0]
[null,null,null,null,null,null,0,0,0,0,0,0,0,0,0,0,0,0,0,0,0,0,0,0,0,0,0,0,0,0,0]
[null,null,null,null,null,null,0,0,0,0,0,0,0,0,0,0,0,0,0,0,0,0,0,0,0,0,0,0,0,0,0]
[null,null,null,null,null,null,0,0,0,0,0,0,0,0,0,0,0,0,0,0,0,0,0,0,0,0,0,0,0,0,0]
[null,null,null,null,null,null,0,0,0,0,0,0,0,0,0,0,0,0,0,0,0,0,0,0,0,0,0,0,0,0,0]
[null,null,null,null,null,null,0,0,0,0,0,0,0,0,0,0,0,0,0,0,0,0,0,0,0,0,0,0,0,0,0]
[null,null,null,null,null,null,0,0,0,0,0,0,0,0,0,0,0,0,0,0,0,0,0,0,0,0,0,0,0,0,0]
[null,null,null,null,null,null,0,0,0,0,0,0,0,0,0,0,0,0,0,0,0,0,0,0,0,0,0,0,0,0,0]
[null,null,null,null,null,null,0,0,0,0,0,0,0,0,0,0,0,0,0,0,0,0,0,0,0,0,0,0,0,0,0]
[null,null,null,null,null,null,0,0,0,0,0,0,0,0,0,0,0,0,0,0,0,0,0,0,0,0,0,0,0,0,0]
[null,null,null,null,null,null,0,0,0,0,0,0,0,0,0,0,0,0,0,0,0,0,0,0,0,0,0,0,0,0,0]
[null,null,null,null,null,null,0,0,0,0,0,0,0,0,0,0,0,0,0,0,0,0,0,0,0,0,0,0,0,0,0]
[null,null,null,null,null,null,0,0,0,0,0,0,0,0,0,0,0,0,0,0,0,0,0,0,0,0,0,0,0,0,0]
[null,null,null,null,null,null,{"$f":"SUM(D43:F43)","v":0},{"$f":"D43+(E43*1.5)+(F43*2)","v":0},0,0,0,0,0,0,0,0,0,0,0,0,0,0,0,0,0,0,0,0,0,0,0]
[null,null,null,null,null,null,0,0,{"$f":"IF($H44 <> 0, (VLOOKUP($C44,TRADE_RATES,12,FALSE)),0)","v":0},0,0,0,{"$f":"SUM(J44,L44)","v":0},{"$f":"Q44+S44+U44+W44+Y44+AA44+AC44","v":0},{"$f":"SUM(J44,L44,Q44,S44,U44,W44,Y44,AA44,AC44)","v":0},{"$f":"IF($G44 <> 0, (VLOOKUP($C44,TRADE_RATES,5,FALSE)),0)","v":0},0,{"$f":"IF($G44 <> 0, (VLOOKUP($C44,TRADE_RATES,6,FALSE)),0)","v":0},0,{"$f":"IF($G44 <> 0, (VLOOKUP($C44,TRADE_RATES,7,FALSE)),0)","v":0},0,{"$f":"IF($G44 <> 0, (VLOOKUP($C44,TRADE_RATES,8,FALSE)),0)","v":0},0,{"$f":"IF($G44 <> 0, (VLOOKUP($C44,TRADE_RATES,9,FALSE)),0)","v":0},{"$f":"ROUND($G44*$X44,2)","v":0},{"$f":"IF($G44 <> 0, (VLOOKUP($C44,TRADE_RATES,10,FALSE)),0)","v":0},0,{"$f":"IF($G44 <> 0, (VLOOKUP($C44,TRADE_RATES,11,FALSE)),0)","v":0},0,{"$f":"Q44+S44+U44+W44+Y44+AA44+AC44","v":0},{"$f":"SUM(J44,L44,Q44,S44,U44,W44,Y44,AA44,AC44)","v":0}]
[null,null,null,null,null,null,0,0,0,0,0,0,0,0,0,0,0,0,0,0,0,0,0,0,0,0,0,0,0,0,0]
[null,null,null,null,null,null,0,0,0,0,0,0,0,0,0,0,0,0,0,0,0,0,0,0,0,0,0,0,0,0,0]
[null,null,null,null,null,null,0,0,0,0,0,0,0,0,0,0,0,0,0,0,0,0,0,0,0,0,0,0,0,0,0]
[null,null,null,null,null,null,0,0,0,0,0,0,0,0,0,0,0,0,0,0,0,0,0,0,0,0,0,0,0,0,0]
[null,null,null,null,null,null,0,0,0,0,0,0,0,0,0,0,0,0,0,0,0,0,0,0,0,0,0,0,0,0,0]
[null,null,null,null,null,null,0,0,0,0,0,0,0,0,0,0,0,0,0,0,0,0,0,0,0,0,0,0,0,0,0]
[null,null,null,null,null,null,0,0,0,0,0,0,0,0,0,0,0,0,0,0,0,0,0,0,0,0,0,0,0,0,0]
[null,null,null,null,null,null,0,0,0,0,0,0,0,0,0,0,0,0,0,0,0,0,0,0,0,0,0,0,0,0,0]
[null,null,null,null,null,null,0,0,0,0,0,0,0,0,0,0,0,0,0,0,0,0,0,0,0,0,0,0,0,0,0]
[null,null,null,null,null,null,0,0,0,0,0,0,0,0,0,0,0,0,0,0,0,0,0,0,0,0,0,0,0,0,0]
[null,null,null,null,null,null,0,0,0,0,0,0,0,0,0,0,0,0,0,0,0,0,0,0,0,0,0,0,0,0,0]
[null,null,null,null,null,null,0,0,0,0,0,0,0,0,0,0,0,0,0,0,0,0,0,0,0,0,0,0,0,0,0]
[null,null,null,null,null,null,0,0,0,0,0,0,0,0,0,0,0,0,0,0,0,0,0,0,0,0,0,0,0,0,0]
[null,null,null,null,null,null,0,0,0,0,0,0,0,0,0,0,0,0,0,0,0,0,0,0,0,0,0,0,0,0,0]
[null,null,null,null,null,null,0,0,0,0,0,0,0,0,0,0,0,0,0,0,0,0,0,0,0,0,0,0,0,0,0]
[null,null,null,null,null,null,0,0,0,0,0,0,0,0,0,0,0,0,0,0,0,0,0,0,0,0,0,0,0,0,0]
[null,null,null,null,null,null,0,0,0,0,0,0,0,0,0,0,0,0,0,0,0,0,0,0,0,0,0,0,0,0,0]
[null,null,null,null,null,null,0,0,0,0,0,0,0,0,0,0,0,0,0,0,0,0,0,0,0,0,0,0,0,0,0]
[null,null,null,null,null,null,0,0,0,0,0,0,0,0,0,0,0,0,0,0,0,0,0,0,0,0,0,0,0,0,0]
[null,null,null,null,null,null,0,0,0,0,0,0,0,0,0,0,0,0,0,0,0,0,0,0,0,0,0,0,0,0,0]
[null,null,null,null,null,null,0,0,0,0,0,0,0,0,0,0,0,0,0,0,0,0,0,0,0,0,0,0,0,0,0]
[null,null,null,null,null,null,0,0,0,0,0,0,0,0,0,0,0,0,0,0,0,0,0,0,0,0,0,0,0,0,0]
[null,null,null,null,null,null,0,0,0,0,0,0,0,0,0,0,0,0,0,0,0,0,0,0,0,0,0,0,0,0,0]
[null,null,null,null,null,null,0,0,0,0,0,0,0,0,0,0,0,0,0,0,0,0,0,0,0,0,0,0,0,0,0]
[null,null,null,null,null,null,0,0,0,0,0,0,0,0,0,0,0,0,0,0,0,0,0,0,0,0,0,0,0,0,0]
[null,null,null,null,null,null,0,0,0,0,0,0,0,0,0,0,0,0,0,0,0,0,0,0,0,0,0,0,0,0,0]
[null,null,null,null,null,null,0,0,0,0,0,0,0,0,0,0,0,0,0,0,0,0,0,0,0,0,0,0,0,0,0]
[null,null,null,null,null,null,0,0,0,0,0,0,0,0,0,0,0,0,0,0,0,0,0,0,0,0,0,0,0,0,0]
[null,null,null,null,null,null,0,0,0,0,0,0,0,0,0,0,0,0,0,0,0,0,0,0,0,0,0,0,0,0,0]
[null,null,null,null,null,null,0,0,0,0,0,0,0,0,0,0,0,0,0,0,0,0,0,0,0,0,0,0,0,0,0]
[null,null,null,null,null,null,0,0,0,0,0,0,0,0,0,0,0,0,0,0,0,0,0,0,0,0,0,0,0,0,0]
[null,null,null,null,null,null,0,0,{"$f":"IF($H76 <> 0, (VLOOKUP($C76,TRADE_RATES,12,FALSE)),0)","v":0},0,{"$f":"IF($H76 <> 0, (VLOOKUP($C76,TRADE_RATES,3,FALSE)),0)","v":0},0,{"$f":"SUM(J76,L76)","v":0},{"$f":"Q76+S76+U76+W76+Y76+AA76+AC76","v":0},{"$f":"SUM(J76,L76,Q76,S76,U76,W76,Y76,AA76,AC76)","v":0},{"$f":"IF($G76 <> 0, (VLOOKUP($C76,TRADE_RATES,5,FALSE)),0)","v":0},{"$f":"ROUND($G76*$P76,2)","v":0},{"$f":"IF($G76 <> 0, (VLOOKUP($C76,TRADE_RATES,6,FALSE)),0)","v":0},{"$f":"ROUND($G76*$R76,2)","v":0},{"$f":"IF($G76 <> 0, (VLOOKUP($C76,TRADE_RATES,7,FALSE)),0)","v":0},{"$f":"ROUND($G76*$T76,2)","v":0},{"$f":"IF($G76 <> 0, (VLOOKUP($C76,TRADE_RATES,8,FALSE)),0)","v":0},{"$f":"ROUND($G76*$V76,2)","v":0},{"$f":"IF($G76 <> 0, (VLOOKUP($C76,TRADE_RATES,9,FALSE)),0)","v":0},{"$f":"ROUND($G76*$X76,2)","v":0},{"$f":"IF($G76 <> 0, (VLOOKUP($C76,TRADE_RATES,10,FALSE)),0)","v":0},0,{"$f":"IF($G76 <> 0, (VLOOKUP($C76,TRADE_RATES,11,FALSE)),0)","v":0},0,{"$f":"Q76+S76+U76+W76+Y76+AA76+AC76","v":0},{"$f":"SUM(J76,L76,Q76,S76,U76,W76,Y76,AA76,AC76)","v":0}]
[null,null,null,null,null,null,0,0,0,0,0,{"$f":"ROUND($H77*$K77,2)","v":0},0,0,0,0,0,0,0,0,0,0,0,0,0,0,{"$f":"ROUND($G77*$Z77,2)","v":0},0,{"$f":"ROUND($G77*$AB77,2)","v":0},0,0]
[null,null,null,null,null,null,0,0,0,{"$f":"ROUND($H78*$I78,2)","v":0},0,0,0,0,0,0,0,0,0,0,0,0,0,0,0,0,0,0,0,0,0]
[null,null,null,null,null,null,0,0,0,0,0,0,0,0,0,0,0,0,0,0,0,0,0,0,0,0,{"$f":"ROUND($G79*$Z79,2)","v":0},0,{"$f":"ROUND($G79*$AB79,2)","v":0},0,0]
[null,null,null,null,null,null,0,0,0,0,0,0,0,0,0,0,0,0,0,0,0,0,0,0,0,0,0,0,0,0,0]
[null,null,null,null,null,null,0,0,0,0,0,0,0,0,0,0,0,0,0,0,0,0,0,0,0,0,{"$f":"ROUND($G81*$Z81,2)","v":0},0,{"$f":"ROUND($G81*$AB81,2)","v":0},0,0]
[null,null,null,null,null,null,0,0,0,0,0,0,0,0,0,0,0,0,0,0,0,0,0,0,0,0,0,0,0,0,0]
[null,null,null,null,null,null,0,0,0,0,0,0,0,0,0,0,0,0,0,0,0,0,0,0,0,0,{"$f":"ROUND($G83*$Z83,2)","v":0},0,{"$f":"ROUND($G83*$AB83,2)","v":0},0,0]
[null,null,null,null,null,null,0,0,0,0,0,0,0,0,0,0,0,0,0,0,0,0,0,0,0,0,0,0,0,0,0]
[null,null,null,null,null,null,0,0,0,0,0,0,0,0,0,0,0,0,0,0,0,0,0,0,0,0,{"$f":"ROUND($G85*$Z85,2)","v":0},0,{"$f":"ROUND($G85*$AB85,2)","v":0},0,0]
[null,null,null,null,null,null,0,0,0,0,0,0,0,0,0,0,0,0,0,0,0,0,0,0,0,0,0,0,0,0,0]
[null,null,null,null,null,null,0,0,0,0,0,0,0,0,0,0,0,0,0,0,0,0,0,0,0,0,{"$f":"ROUND($G87*$Z87,2)","v":0},0,{"$f":"ROUND($G87*$AB87,2)","v":0},0,0]
[null,null,null,null,null,null,0,0,0,0,0,0,0,0,0,0,0,0,0,0,0,0,0,0,0,0,0,0,0,0,0]
[null,null,null,null,null,null,0,0,0,0,0,0,0,0,0,0,0,0,0,0,0,0,0,0,0,0,{"$f":"ROUND($G89*$Z89,2)","v":0},0,{"$f":"ROUND($G89*$AB89,2)","v":0},0,0]
[null,null,null,null,null,null,0,0,0,0,0,0,0,0,0,0,0,0,0,0,0,0,0,0,0,0,0,0,0,0,0]
[null,null,null,null,null,null,{"$f":"SUM(D91:F91)","v":0},{"$f":"D91+(E91*1.5)+(F91*2)","v":0},0,0,0,0,0,0,0,0,0,0,0,0,0,0,0,0,0,0,{"$f":"ROUND($G91*$Z91,2)","v":0},0,{"$f":"ROUND($G91*$AB91,2)","v":0},0,0]
[null,null,null,null,null,null,0,0,0,0,0,0,0,0,0,0,0,0,0,0,0,0,0,0,0,0,0,0,0,0,0]
[null,null,null,null,null,null,0,0,0,0,0,0,0,0,0,0,0,0,0,0,0,0,0,0,0,0,{"$f":"ROUND($G93*$Z93,2)","v":0},0,{"$f":"ROUND($G93*$AB93,2)","v":0},0,0]
[null,null,null,null,null,null,0,0,0,0,0,0,0,0,0,0,0,0,0,0,0,0,0,0,0,0,0,0,0,0,0]
[null,null,null,null,null,null,0,0,0,0,0,0,0,0,0,0,0,0,0,0,0,0,0,0,0,0,{"$f":"ROUND($G95*$Z95,2)","v":0},0,{"$f":"ROUND($G95*$AB95,2)","v":0},0,0]
[null,null,null,null,null,null,0,0,0,0,0,0,0,0,0,0,0,0,0,0,0,0,0,0,0,0,0,0,0,0,0]
[null,null,null,null,null,null,0,0,0,0,0,0,0,0,0,0,0,0,0,0,0,0,0,0,0,0,{"$f":"ROUND($G97*$Z97,2)","v":0},0,{"$f":"ROUND($G97*$AB97,2)","v":0},0,0]
[null,null,null,null,null,null,0,0,0,0,0,0,0,0,0,0,0,0,0,0,0,0,0,0,0,0,0,0,0,0,0]
[null,null,null,null,null,null,0,0,0,0,0,0,0,0,0,0,0,0,0,0,0,0,0,0,0,0,{"$f":"ROUND($G99*$Z99,2)","v":0},0,{"$f":"ROUND($G99*$AB99,2)","v":0},0,0]
[null,null,null,null,null,null,0,0,0,0,0,0,0,0,0,0,0,0,0,0,0,0,0,0,0,0,0,0,0,0,0]
[" "]
[null,"Total Hours:",null,{"$f":"SUM(D12:D100)","v":0},{"$f":"SUM(E12:E100)","v":0},{"$f":"SUM(F12:F100)","v":0},{"$f":"SUM(G12:G100)","v":0},{"$f":"SUM(H12:H100)","v":0},null,{"$f":"SUM(J12:J100)","v":0},null,{"$f":"SUM(L12:L100)","v":0},{"$f":"SUM(M12:M100)","v":0},{"$f":"SUM(N12:N100)","v":0},{"$f":"SUM(AE12:AE100)","v":0},null,{"$f":"SUM(Q12:Q100)","v":0},null,{"$f":"SUM(S12:S100)","v":0},null,{"$f":"SUM(U12:U100)","v":0},null,{"$f":"SUM(W12:W100)","v":0},null,{"$f":"SUM(Y12:Y100)","v":0},null,{"$f":"SUM(AA12:AA100)","v":0},null,{"$f":"SUM(AC12:AC100)","v":0},{"$f":"SUM(AD12:AD100)","v":0},{"$f":"SUM(AE12:AE100)","v":0}]
[]
["Mail 1 copy (use \"Print for PTSMN\" button above) with a check before the 15th of the month to:",null,null,null,null,null,null,null,null,null,null,null,"GRAND TOTAL TO PTSMN:",null,{"$f":"AE102","v":0},null,null,null,null,null,"GRAND TOTAL FRINGES TO REMIT TO PTSMN with copy of this sheet: ",null,null,null,null,null,null,null,null,null,{"$f":"AE102","v":0}]
["PIPE TRADES SERVICES MN"]
["4461 White Bear Pkwy, Suite1"]
["White Bear Lake, MN 55110"]

{"sheet":"TRADES_RATES","index":1,"n_rows":21,"n_cols":15,"rows_kept":21,"cut":false,"hidden":false,"merged":[[1,0,1,9],[0,0,0,14]]}
["TRADE RATES GRID"]
["NON TAXABLE FRINGE",null,null,null,null,null,null,null,null,null,"TAXABLE","TAXABLE"]
["Trade Code","Trade Description","Health & Welfare",null,"Supplement Pension","Apprenticeship","Industry Promotion","Building Fund","UA Training Fund","UA Organizing Fund","Credit Union (Vacation Fund)","Dues","TOTAL PD FRINGE","TOTAL WORKED FRINGE","Total Fringe to PTSMN"]
[null,null,"PD",null,"WRK","WRK","WRK","WRK","WRK","WRK","WRK","PD"]
["SP","Apprentice Probationary",9.7100000000000009,null,null,0.59,0.6,0.1,0.1,0.1,1,0.88,{"$f":"SUM(C5,L5)","v":10.590000000000002},{"$f":"SUM(E5:K5)","v":2.4900000000000002},{"$f":"M5+N5","v":13.080000000000002}]
["S1","Apprentice 1",9.7100000000000009,null,null,0.59,0.6,0.1,0.1,0.1,1,0.88,{"$f":"SUM(C6,L6)","v":10.590000000000002},{"$f":"SUM(E6:K6)","v":2.4900000000000002},{"$f":"M6+N6","v":13.080000000000002}]
["S2","Apprentice 2",9.7100000000000009,null,null,0.59,0.6,0.1,0.1,0.1,1,0.88,10.590000000000002,2.4900000000000002,13.080000000000002]
["S3","Apprentice 3",9.7100000000000009,null,null,0.59,0.6,0.1,0.1,0.1,1,0.97,10.680000000000001,2.4900000000000002,13.170000000000002]
["S4","Apprentice 4",9.7100000000000009,null,null,0.59,0.6,0.1,0.1,0.1,1,1.06,10.770000000000001,2.4900000000000002,13.260000000000002]
["S5","Apprentice 5",9.7100000000000009,null,11,0.59,0.6,0.1,0.1,0.1,1,1.1599999999999999,10.870000000000001,13.489999999999998,24.36]
["S6","Apprentice 6",9.7100000000000009,null,11,0.59,0.6,0.1,0.1,0.1,1,1.21,10.920000000000002,13.489999999999998,24.41]
["S7","Apprentice 7",9.7100000000000009,null,11,0.59,0.6,0.1,0.1,0.1,1,1.3,11.010000000000002,13.489999999999998,24.5]
["S8","Apprentice 8",9.7100000000000009,null,11,0.59,0.6,0.1,0.1,0.1,1,1.4,11.110000000000001,13.489999999999998,24.6]
["S9","Apprentice 9",9.7100000000000009,null,11,0.59,0.6,0.1,0.1,0.1,1,1.49,11.200000000000001,13.489999999999998,24.689999999999998]
["S10","Apprentice 10",9.7100000000000009,null,11,0.59,0.6,0.1,0.1,0.1,1,1.68,11.39,13.489999999999998,24.88]
["S","Journeyman-Sprinklerfitter",9.7100000000000009,null,11,0.59,0.6,0.1,0.1,0.1,1,1.86,11.57,13.489999999999998,25.06]
["SF","Foreman-Sprinklerfitter",9.7100000000000009,null,11,0.59,0.6,0.1,0.1,0.1,1,1.99,11.700000000000001,13.489999999999998,25.189999999999998]
["SFA","Above Foreman-Sprinklerfitter",9.7100000000000009,null,11,0.59,0.6,0.1,0.1,0.1,1,2.0499999999999998,11.760000000000002,13.489999999999998,25.25]
["SC","City Journeyman",9.7100000000000009,null,11,0.59,null,0.1,0.1,0.1,1,1.99,11.700000000000001,12.889999999999999,24.59]
["SS","School Journeyman",9.7100000000000009,null,11,0.59,0.6,0.1,0.1,0.1,null,null,{"$f":"SUM(C20,L20)","v":9.7100000000000009},{"$f":"SUM(E20:K20)","v":12.489999999999998},{"$f":"M20+N20","v":22.2}]
["ST","School Foreman",9.7100000000000009,null,11,0.59,0.6,0.1,0.1,0.1,null,null,9.7100000000000009,12.489999999999998,22.2]

{"sheet":"TOTALS and CERTIFY","index":2,"n_rows":15,"n_cols":13,"rows_kept":15,"cut":false,"hidden":false,"merged":[[0,0,0,3],[5,0,5,3],[6,5,6,10],[8,5,8,10],[10,5,10,10],[1,0,1,3],[6,0,8,3]]}
["NOTICE!",null,null,null,"I certify this is a true and complete report of hours worked and that the contributions reflected "]
["Mail 1 copy with a check before the 15th of the month to:",null,null,null,"herein are made in conformity with the provisions dealing with contributions to the Funds in the "]
["PIPE TRADES SERVICES MN",null,null,null,"Collective Bargaining Agreement between the Union and Employers who executed the agreement and "]
["4461 WHITE BEAR PKWY, SUITE 1",null,null,null,"the Declaration of Trust establishing the Funds."]
["WHITE BEAR LAKE, MN 55110"]
["With check payable to: Pipe Trades Services MN"]
["This Fringe Benefit Report is DUE BY THE 15th of each month. Payments and reports RECEIVED AFTER THE 20th will be assessed liquidated damages at the following rates:",null,null,null,"Prepared By:"]
[]
[null,null,null,null,"Phone:"]
["1-10 days late = 3% of total fringes payable"]
["11 or more days late = 10% of total fringes payable",null,null,null,"Email:"]
[]
[]
["Total Dues","Total H&W","Total Pyramid Fringes","Total Supplement Pension","Total Apprenticeship","Total Industry Promotion","Total Building Fund","Total UA Training","Total UA Organizing","Total Credit Union","Total Non Pyramid Fringes",null,"TOTAL FRINGE TO PTSMN"]
[{"$f":"'INPUT HOURS & CALC FRINGES'!J102","v":0},{"$f":"'INPUT HOURS & CALC FRINGES'!L102","v":0},{"$f":"'INPUT HOURS & CALC FRINGES'!M102","v":0},{"$f":"'INPUT HOURS & CALC FRINGES'!Q102","v":0},{"$f":"'INPUT HOURS & CALC FRINGES'!S102","v":0},{"$f":"'INPUT HOURS & CALC FRINGES'!U102","v":0},{"$f":"'INPUT HOURS & CALC FRINGES'!W102","v":0},{"$f":"'INPUT HOURS & CALC FRINGES'!Y102","v":0},{"$f":"'INPUT HOURS & CALC FRINGES'!AA102","v":0},{"$f":"'INPUT HOURS & CALC FRINGES'!AC102","v":0},{"$f":"'INPUT HOURS & CALC FRINGES'!AD102","v":0},null,{"$f":"'INPUT HOURS & CALC FRINGES'!AE102","v":0}]